Workbook

Sheet DATA
A1: JANUARY | B1: 1 | D1: 1 | E1: SUN | G1: Instagram | I1: Published
A2: FEBRUARY | B2: 2 | D2: 2 | E2: MON | G2: Facebook | I2: In Process
A3: MARCH | B3: 3 | D3: 3 | E3: TUE | G3: YouTube | I3: Under Review
A4: APRIL | B4: 4 | D4: 4 | E4: WED | G4: TikTok | I4: New
A5: MAY | B5: 5 | D5: 5 | E5: THU | G5: Snapchat | I5: ALL
A6: JUNE | B6: 6 | D6: 6 | E6: FRI | G6: Twitter
A7: JULY | B7: 7 | D7: 7 | E7: SAT | G7: Reddit
A8: AUGUST | B8: 8 | G8: ALL
A9: SEPTEMBER | B9: 9
A10: OCTOBER | B10: 10
A11: NOVEMBER | B11: 11
A12: DECEMBER | B12: 12
F28: H

Sheet Calendar
C1: Free template made by and provided by contentworkflow.co
L2: CHOOSE MONTH ➤ | O2: SEPTEMBER | Q2: CHOOSE STATUS ➤ | T2: MARCH | U2: ALL
C3: CONTENT CALENDAR
L4: CHOOSE YEAR ➤ | O4: 2026 | Q4: CHOOSE TYPE ➤ | T4: 2026 | U4: ALL
C9: SUN | F9: MON | I9: TUE | L9: WED | O9: THU | R9: FRI | U9: SAT
C12: =IFERROR(IF(WEEKDAY(DATE(O4,VLOOKUP(O2,DATA!A:C,2,FALSE),1),1)=1,DATE(O4,VLOOKUP(O2,DATA!A:C,2,FALSE),1),DATE(O4,VLOOKUP(O2,DATA!A:C,2,FALSE),1)-WEEKDAY(DATE(O4,VLOOKUP(O2,DATA!A:C,2,FALSE),1)-1)),"") | F12: =C12+1 | I12: =F12+1 | L12: =I12+1 | O12: =L12+1 | R12: =O12+1 | U12: =R12+1
C13: =IFERROR(FILTER(LEFT('Add Content'!$D$4:$D$1000 & " – " & 'Add Content'!$E$4:$E$1000, 36),('Add Content'!$I$4:$I$1000 = C12) * (($U$2 = "ALL") + ('Add Content'!$H$4:$H$1000 = $U$2)) * (($U$4 = "ALL") + ('Add Content'!$D$4:$D$1000 = $U$4))),"") | F13: =IFERROR(FILTER(LEFT('Add Content'!$D$4:$D$1000 & " – " & 'Add Content'!$E$4:$E$1000, 36),('Add Content'!$I$4:$I$1000 = F12) * (($U$2 = "ALL") + ('Add Content'!$H$4:$H$1000 = $U$2)) * (($U$4 = "ALL") + ('Add Content'!$D$4:$D$1000 = $U$4))),"") | I13: =IFERROR(FILTER(LEFT('Add Content'!$D$4:$D$1000 & " – " & 'Add Content'!$E$4:$E$1000, 36),('Add Content'!$I$4:$I$1000 = I12) * (($U$2 = "ALL") + ('Add Content'!$H$4:$H$1000 = $U$2)) * (($U$4 = "ALL") + ('Add Content'!$D$4:$D$1000 = $U$4))),"") | L13: =IFERROR(FILTER(LEFT('Add Content'!$D$4:$D$1000 & " – " & 'Add Content'!$E$4:$E$1000, 36),('Add Content'!$I$4:$I$1000 = L12) * (($U$2 = "ALL") + ('Add Content'!$H$4:$H$1000 = $U$2)) * (($U$4 = "ALL") + ('Add Content'!$D$4:$D$1000 = $U$4))),"") | O13: =IFERROR(FILTER(LEFT('Add Content'!$D$4:$D$1000 & " – " & 'Add Content'!$E$4:$E$1000, 36),('Add Content'!$I$4:$I$1000 = O12) * (($U$2 = "ALL") + ('Add Content'!$H$4:$H$1000 = $U$2)) * (($U$4 = "ALL") + ('Add Content'!$D$4:$D$1000 = $U$4))),"") | R13: =IFERROR(FILTER(LEFT('Add Content'!$D$4:$D$1000 & " – " & 'Add Content'!$E$4:$E$1000, 36),('Add Content'!$I$4:$I$1000 = R12) * (($U$2 = "ALL") + ('Add Content'!$H$4:$H$1000 = $U$2)) * (($U$4 = "ALL") + ('Add Content'!$D$4:$D$1000 = $U$4))),"") | U13: =IFERROR(FILTER(LEFT('Add Content'!$D$4:$D$1000 & " – " & 'Add Content'!$E$4:$E$1000, 36),('Add Content'!$I$4:$I$1000 = U12) * (($U$2 = "ALL") + ('Add Content'!$H$4:$H$1000 = $U$2)) * (($U$4 = "ALL") + ('Add Content'!$D$4:$D$1000 = $U$4))),"")
C21: =C12+7 | F21: =C21+1 | I21: =F21+1 | L21: =I21+1 | O21: =L21+1 | R21: =O21+1 | U21: =R21+1
C22: =IFERROR(FILTER(LEFT('Add Content'!$D$4:$D$1000 & " – " & 'Add Content'!$E$4:$E$1000, 36),('Add Content'!$I$4:$I$1000 = C21) * (($U$2 = "ALL") + ('Add Content'!$H$4:$H$1000 = $U$2)) * (($U$4 = "ALL") + ('Add Content'!$D$4:$D$1000 = $U$4))),"") | F22: =IFERROR(FILTER(LEFT('Add Content'!$D$4:$D$1000 & " – " & 'Add Content'!$E$4:$E$1000, 36),('Add Content'!$I$4:$I$1000 = F21) * (($U$2 = "ALL") + ('Add Content'!$H$4:$H$1000 = $U$2)) * (($U$4 = "ALL") + ('Add Content'!$D$4:$D$1000 = $U$4))),"") | I22: =IFERROR(FILTER(LEFT('Add Content'!$D$4:$D$1000 & " – " & 'Add Content'!$E$4:$E$1000, 36),('Add Content'!$I$4:$I$1000 = I21) * (($U$2 = "ALL") + ('Add Content'!$H$4:$H$1000 = $U$2)) * (($U$4 = "ALL") + ('Add Content'!$D$4:$D$1000 = $U$4))),"") | L22: =IFERROR(FILTER(LEFT('Add Content'!$D$4:$D$1000 & " – " & 'Add Content'!$E$4:$E$1000, 36),('Add Content'!$I$4:$I$1000 = L21) * (($U$2 = "ALL") + ('Add Content'!$H$4:$H$1000 = $U$2)) * (($U$4 = "ALL") + ('Add Content'!$D$4:$D$1000 = $U$4))),"") | O22: =IFERROR(FILTER(LEFT('Add Content'!$D$4:$D$1000 & " – " & 'Add Content'!$E$4:$E$1000, 36),('Add Content'!$I$4:$I$1000 = O21) * (($U$2 = "ALL") + ('Add Content'!$H$4:$H$1000 = $U$2)) * (($U$4 = "ALL") + ('Add Content'!$D$4:$D$1000 = $U$4))),"") | R22: =IFERROR(FILTER(LEFT('Add Content'!$D$4:$D$1000 & " – " & 'Add Content'!$E$4:$E$1000, 36),('Add Content'!$I$4:$I$1000 = R21) * (($U$2 = "ALL") + ('Add Content'!$H$4:$H$1000 = $U$2)) * (($U$4 = "ALL") + ('Add Content'!$D$4:$D$1000 = $U$4))),"") | U22: =IFERROR(FILTER(LEFT('Add Content'!$D$4:$D$1000 & " – " & 'Add Content'!$E$4:$E$1000, 36),('Add Content'!$I$4:$I$1000 = U21) * (($U$2 = "ALL") + ('Add Content'!$H$4:$H$1000 = $U$2)) * (($U$4 = "ALL") + ('Add Content'!$D$4:$D$1000 = $U$4))),"")
C30: =C21+7 | F30: =C30+1 | I30: =F30+1 | L30: =I30+1 | O30: =L30+1 | R30: =O30+1 | U30: =R30+1
C31: =IFERROR(FILTER(LEFT('Add Content'!$D$4:$D$1000 & " – " & 'Add Content'!$E$4:$E$1000, 36),('Add Content'!$I$4:$I$1000 = C30) * (($U$2 = "ALL") + ('Add Content'!$H$4:$H$1000 = $U$2)) * (($U$4 = "ALL") + ('Add Content'!$D$4:$D$1000 = $U$4))),"") | F31: =IFERROR(FILTER(LEFT('Add Content'!$D$4:$D$1000 & " – " & 'Add Content'!$E$4:$E$1000, 36),('Add Content'!$I$4:$I$1000 = F30) * (($U$2 = "ALL") + ('Add Content'!$H$4:$H$1000 = $U$2)) * (($U$4 = "ALL") + ('Add Content'!$D$4:$D$1000 = $U$4))),"") | I31: =IFERROR(FILTER(LEFT('Add Content'!$D$4:$D$1000 & " – " & 'Add Content'!$E$4:$E$1000, 36),('Add Content'!$I$4:$I$1000 = I30) * (($U$2 = "ALL") + ('Add Content'!$H$4:$H$1000 = $U$2)) * (($U$4 = "ALL") + ('Add Content'!$D$4:$D$1000 = $U$4))),"") | L31: =IFERROR(FILTER(LEFT('Add Content'!$D$4:$D$1000 & " – " & 'Add Content'!$E$4:$E$1000, 36),('Add Content'!$I$4:$I$1000 = L30) * (($U$2 = "ALL") + ('Add Content'!$H$4:$H$1000 = $U$2)) * (($U$4 = "ALL") + ('Add Content'!$D$4:$D$1000 = $U$4))),"") | O31: =IFERROR(FILTER(LEFT('Add Content'!$D$4:$D$1000 & " – " & 'Add Content'!$E$4:$E$1000, 36),('Add Content'!$I$4:$I$1000 = O30) * (($U$2 = "ALL") + ('Add Content'!$H$4:$H$1000 = $U$2)) * (($U$4 = "ALL") + ('Add Content'!$D$4:$D$1000 = $U$4))),"") | R31: =IFERROR(FILTER(LEFT('Add Content'!$D$4:$D$1000 & " – " & 'Add Content'!$E$4:$E$1000, 36),('Add Content'!$I$4:$I$1000 = R30) * (($U$2 = "ALL") + ('Add Content'!$H$4:$H$1000 = $U$2)) * (($U$4 = "ALL") + ('Add Content'!$D$4:$D$1000 = $U$4))),"") | U31: =IFERROR(FILTER(LEFT('Add Content'!$D$4:$D$1000 & " – " & 'Add Content'!$E$4:$E$1000, 36),('Add Content'!$I$4:$I$1000 = U30) * (($U$2 = "ALL") + ('Add Content'!$H$4:$H$1000 = $U$2)) * (($U$4 = "ALL") + ('Add Content'!$D$4:$D$1000 = $U$4))),"")
C39: =C30+7 | F39: =C39+1 | I39: =F39+1 | L39: =I39+1 | O39: =L39+1 | R39: =O39+1 | U39: =R39+1
C40: =IFERROR(FILTER(LEFT('Add Content'!$D$4:$D$1000 & " – " & 'Add Content'!$E$4:$E$1000, 36),('Add Content'!$I$4:$I$1000 = C39) * (($U$2 = "ALL") + ('Add Content'!$H$4:$H$1000 = $U$2)) * (($U$4 = "ALL") + ('Add Content'!$D$4:$D$1000 = $U$4))),"") | F40: =IFERROR(FILTER(LEFT('Add Content'!$D$4:$D$1000 & " – " & 'Add Content'!$E$4:$E$1000, 36),('Add Content'!$I$4:$I$1000 = F39) * (($U$2 = "ALL") + ('Add Content'!$H$4:$H$1000 = $U$2)) * (($U$4 = "ALL") + ('Add Content'!$D$4:$D$1000 = $U$4))),"") | I40: =IFERROR(FILTER(LEFT('Add Content'!$D$4:$D$1000 & " – " & 'Add Content'!$E$4:$E$1000, 36),('Add Content'!$I$4:$I$1000 = I39) * (($U$2 = "ALL") + ('Add Content'!$H$4:$H$1000 = $U$2)) * (($U$4 = "ALL") + ('Add Content'!$D$4:$D$1000 = $U$4))),"") | L40: =IFERROR(FILTER(LEFT('Add Content'!$D$4:$D$1000 & " – " & 'Add Content'!$E$4:$E$1000, 36),('Add Content'!$I$4:$I$1000 = L39) * (($U$2 = "ALL") + ('Add Content'!$H$4:$H$1000 = $U$2)) * (($U$4 = "ALL") + ('Add Content'!$D$4:$D$1000 = $U$4))),"") | O40: =IFERROR(FILTER(LEFT('Add Content'!$D$4:$D$1000 & " – " & 'Add Content'!$E$4:$E$1000, 36),('Add Content'!$I$4:$I$1000 = O39) * (($U$2 = "ALL") + ('Add Content'!$H$4:$H$1000 = $U$2)) * (($U$4 = "ALL") + ('Add Content'!$D$4:$D$1000 = $U$4))),"") | R40: =IFERROR(FILTER(LEFT('Add Content'!$D$4:$D$1000 & " – " & 'Add Content'!$E$4:$E$1000, 36),('Add Content'!$I$4:$I$1000 = R39) * (($U$2 = "ALL") + ('Add Content'!$H$4:$H$1000 = $U$2)) * (($U$4 = "ALL") + ('Add Content'!$D$4:$D$1000 = $U$4))),"") | U40: =IFERROR(FILTER(LEFT('Add Content'!$D$4:$D$1000 & " – " & 'Add Content'!$E$4:$E$1000, 36),('Add Content'!$I$4:$I$1000 = U39) * (($U$2 = "ALL") + ('Add Content'!$H$4:$H$1000 = $U$2)) * (($U$4 = "ALL") + ('Add Content'!$D$4:$D$1000 = $U$4))),"")
C48: =C39+7 | F48: =F39+7 | I48: =I39+7 | L48: =L39+7 | O48: =O39+7 | R48: =R39+7 | U48: =U39+7
C49: =IFERROR(FILTER(LEFT('Add Content'!$D$4:$D$1000 & " – " & 'Add Content'!$E$4:$E$1000, 36),('Add Content'!$I$4:$I$1000 = C48) * (($U$2 = "ALL") + ('Add Content'!$H$4:$H$1000 = $U$2)) * (($U$4 = "ALL") + ('Add Content'!$D$4:$D$1000 = $U$4))),"") | F49: =IFERROR(FILTER(LEFT('Add Content'!$D$4:$D$1000 & " – " & 'Add Content'!$E$4:$E$1000, 36),('Add Content'!$I$4:$I$1000 = F48) * (($U$2 = "ALL") + ('Add Content'!$H$4:$H$1000 = $U$2)) * (($U$4 = "ALL") + ('Add Content'!$D$4:$D$1000 = $U$4))),"") | I49: =IFERROR(FILTER(LEFT('Add Content'!$D$4:$D$1000 & " – " & 'Add Content'!$E$4:$E$1000, 36),('Add Content'!$I$4:$I$1000 = I48) * (($U$2 = "ALL") + ('Add Content'!$H$4:$H$1000 = $U$2)) * (($U$4 = "ALL") + ('Add Content'!$D$4:$D$1000 = $U$4))),"") | L49: =IFERROR(FILTER(LEFT('Add Content'!$D$4:$D$1000 & " – " & 'Add Content'!$E$4:$E$1000, 36),('Add Content'!$I$4:$I$1000 = L48) * (($U$2 = "ALL") + ('Add Content'!$H$4:$H$1000 = $U$2)) * (($U$4 = "ALL") + ('Add Content'!$D$4:$D$1000 = $U$4))),"") | O49: =IFERROR(FILTER(LEFT('Add Content'!$D$4:$D$1000 & " – " & 'Add Content'!$E$4:$E$1000, 36),('Add Content'!$I$4:$I$1000 = O48) * (($U$2 = "ALL") + ('Add Content'!$H$4:$H$1000 = $U$2)) * (($U$4 = "ALL") + ('Add Content'!$D$4:$D$1000 = $U$4))),"") | R49: =IFERROR(FILTER(LEFT('Add Content'!$D$4:$D$1000 & " – " & 'Add Content'!$E$4:$E$1000, 36),('Add Content'!$I$4:$I$1000 = R48) * (($U$2 = "ALL") + ('Add Content'!$H$4:$H$1000 = $U$2)) * (($U$4 = "ALL") + ('Add Content'!$D$4:$D$1000 = $U$4))),"") | U49: =IFERROR(FILTER(LEFT('Add Content'!$D$4:$D$1000 & " – " & 'Add Content'!$E$4:$E$1000, 36),('Add Content'!$I$4:$I$1000 = U48) * (($U$2 = "ALL") + ('Add Content'!$H$4:$H$1000 = $U$2)) * (($U$4 = "ALL") + ('Add Content'!$D$4:$D$1000 = $U$4))),"")
C57: =C48+7 | F57: =F48+7 | I57: =I48+7 | L57: =L48+7 | O57: =O48+7 | R57: =R48+7 | U57: =U48+7
C58: =IFERROR(FILTER(LEFT('Add Content'!$D$4:$D$1000 & " – " & 'Add Content'!$E$4:$E$1000, 36),('Add Content'!$I$4:$I$1000 = C57) * (($U$2 = "ALL") + ('Add Content'!$H$4:$H$1000 = $U$2)) * (($U$4 = "ALL") + ('Add Content'!$D$4:$D$1000 = $U$4))),"") | F58: =IFERROR(FILTER(LEFT('Add Content'!$D$4:$D$1000 & " – " & 'Add Content'!$E$4:$E$1000, 36),('Add Content'!$I$4:$I$1000 = F57) * (($U$2 = "ALL") + ('Add Content'!$H$4:$H$1000 = $U$2)) * (($U$4 = "ALL") + ('Add Content'!$D$4:$D$1000 = $U$4))),"") | I58: =IFERROR(FILTER(LEFT('Add Content'!$D$4:$D$1000 & " – " & 'Add Content'!$E$4:$E$1000, 36),('Add Content'!$I$4:$I$1000 = I57) * (($U$2 = "ALL") + ('Add Content'!$H$4:$H$1000 = $U$2)) * (($U$4 = "ALL") + ('Add Content'!$D$4:$D$1000 = $U$4))),"") | L58: =IFERROR(FILTER(LEFT('Add Content'!$D$4:$D$1000 & " – " & 'Add Content'!$E$4:$E$1000, 36),('Add Content'!$I$4:$I$1000 = L57) * (($U$2 = "ALL") + ('Add Content'!$H$4:$H$1000 = $U$2)) * (($U$4 = "ALL") + ('Add Content'!$D$4:$D$1000 = $U$4))),"") | O58: =IFERROR(FILTER(LEFT('Add Content'!$D$4:$D$1000 & " – " & 'Add Content'!$E$4:$E$1000, 36),('Add Content'!$I$4:$I$1000 = O57) * (($U$2 = "ALL") + ('Add Content'!$H$4:$H$1000 = $U$2)) * (($U$4 = "ALL") + ('Add Content'!$D$4:$D$1000 = $U$4))),"") | R58: =IFERROR(FILTER(LEFT('Add Content'!$D$4:$D$1000 & " – " & 'Add Content'!$E$4:$E$1000, 36),('Add Content'!$I$4:$I$1000 = R57) * (($U$2 = "ALL") + ('Add Content'!$H$4:$H$1000 = $U$2)) * (($U$4 = "ALL") + ('Add Content'!$D$4:$D$1000 = $U$4))),"") | U58: =IFERROR(FILTER(LEFT('Add Content'!$D$4:$D$1000 & " – " & 'Add Content'!$E$4:$E$1000, 36),('Add Content'!$I$4:$I$1000 = U57) * (($U$2 = "ALL") + ('Add Content'!$H$4:$H$1000 = $U$2)) * (($U$4 = "ALL") + ('Add Content'!$D$4:$D$1000 = $U$4))),"")

Sheet Add Content
C1: Free template made by and provided by contentworkflow.co
C2: CONTENT | D2: PLATFORM | E2: TITLE | F2: CAPTION | G2: ASSIGNEE | H2: STATUS | I2: POSTING DATE
C4: Post | D4: Instagram | E4: 3 mistakes killing your cold email reply rate | F4: Three things we changed last quarter, and what happened to the reply rate. Full breakdown in the comments. | G4: Alex | H4: Under Review | I4: 46273
C5: Video | D5: TikTok | E5: Founder interview, full cut | F5: We almost shut the company down in year two. The whole story, 14 minutes. | G5: Sam | H5: In Process | I5: 46280
C6: Video | D6: YouTube | E6: Behind the shoot, week 3 | F6: Everything that went wrong on set this week, and the one thing that went right. | G6: Alex | H6: Published | I6: 46287
